BEGIN:VCALENDAR
VERSION:2.0
PRODID:-//ASTRO ACCEL - ECPv6.15.20//NONSGML v1.0//EN
CALSCALE:GREGORIAN
METHOD:PUBLISH
X-ORIGINAL-URL:https://astroaccel.org
X-WR-CALDESC:Events for ASTRO ACCEL
REFRESH-INTERVAL;VALUE=DURATION:PT1H
X-Robots-Tag:noindex
X-PUBLISHED-TTL:PT1H
BEGIN:VTIMEZONE
TZID:UTC
BEGIN:STANDARD
TZOFFSETFROM:+0000
TZOFFSETTO:+0000
TZNAME:UTC
DTSTART:20250101T000000
END:STANDARD
END:VTIMEZONE
BEGIN:VEVENT
DTSTART;TZID=UTC:20260514T160000
DTEND;TZID=UTC:20260514T170000
DTSTAMP:20260423T100134
CREATED:20260414T195536Z
LAST-MODIFIED:20260415T134021Z
UID:10001311-1778774400-1778778000@astroaccel.org
SUMMARY:Effective Project Management for Global Collaboration: Tips\, Tools and Techniques
DESCRIPTION:This interactive webinar introduces practical project management tools and techniques designed for research\, education and public engagement collaborations. Participants will explore strategies for planning and tracking projects\, managing shared budgets\, and supporting transparent coordination across global teams. \nParticipants will leave with practical templates\, tool recommendations and workflows they can apply to their own projects.
URL:https://astroaccel.org/event/effective-project-management-for-global-collaboration-tips-tools-and-techniques/
CATEGORIES:Webinar or Presentation
ATTACH;FMTTYPE=image/png:https://astroaccel.org/wp-content/uploads/2026/04/tiffany-stone-wolbrecht.png
LOCATION:https://us02web.zoom.us/webinar/register/WN_rlSh7BfERdy8sM5uMc7XiQ
END:VEVENT
BEGIN:VEVENT
DTSTART;VALUE=DATE:20260815
DTEND;VALUE=DATE:20260818
DTSTAMP:20260423T100134
CREATED:20260421T204627Z
LAST-MODIFIED:20260421T204921Z
UID:10001312-1786752000-1787011199@astroaccel.org
SUMMARY:2026 Innovation Summit
DESCRIPTION:Who Should Attend?\nThis summit is for professionals working in astronomy education and adjacent fields\, including:\n– Education and outreach practitioners\n– Researchers and academics\n– Science communicators\n– Program leaders and project collaborators \nWhat to Expect\n– Connections across astronomy education and related disciplines\n– Collaboration on active\, real-world projects\n– Opportunities to engage with potential funders and share ideas\n– Highly interactive sessions designed around participants’ goals and interests \nA Tailored Experience\nThe summit is designed to align sessions\, activities\, and connections with participants’ goals and interests—helping surface relevant conversations and opportunities. \nRegistration Deadline: May 15\, 2026
URL:https://astroaccel.org/event/2026-innovation-summit/
LOCATION:Lisbon
CATEGORIES:Summit or Conference
ATTACH;FMTTYPE=image/jpeg:https://astroaccel.org/wp-content/uploads/2026/04/Picture5.jpg
END:VEVENT
END:VCALENDAR